BEGIN:VCALENDAR
VERSION:2.0
PRODID:-//Ville de Venelles - ECPv6.15.8//NONSGML v1.0//EN
CALSCALE:GREGORIAN
METHOD:PUBLISH
X-WR-CALNAME:Ville de Venelles
X-ORIGINAL-URL:https://venelles.fr
X-WR-CALDESC:Évènements pour Ville de Venelles
REFRESH-INTERVAL;VALUE=DURATION:PT1H
X-Robots-Tag:noindex
X-PUBLISHED-TTL:PT1H
BEGIN:VTIMEZONE
TZID:Europe/Paris
BEGIN:DAYLIGHT
TZOFFSETFROM:+0100
TZOFFSETTO:+0200
TZNAME:CEST
DTSTART:20230326T010000
END:DAYLIGHT
BEGIN:STANDARD
TZOFFSETFROM:+0200
TZOFFSETTO:+0100
TZNAME:CET
DTSTART:20231029T010000
END:STANDARD
BEGIN:DAYLIGHT
TZOFFSETFROM:+0100
TZOFFSETTO:+0200
TZNAME:CEST
DTSTART:20240331T010000
END:DAYLIGHT
BEGIN:STANDARD
TZOFFSETFROM:+0200
TZOFFSETTO:+0100
TZNAME:CET
DTSTART:20241027T010000
END:STANDARD
BEGIN:DAYLIGHT
TZOFFSETFROM:+0100
TZOFFSETTO:+0200
TZNAME:CEST
DTSTART:20250330T010000
END:DAYLIGHT
BEGIN:STANDARD
TZOFFSETFROM:+0200
TZOFFSETTO:+0100
TZNAME:CET
DTSTART:20251026T010000
END:STANDARD
END:VTIMEZONE
BEGIN:VEVENT
DTSTART;TZID=Europe/Paris:20240525T203000
DTEND;TZID=Europe/Paris:20240525T220000
DTSTAMP:20260421T212345
CREATED:20240423T121314Z
LAST-MODIFIED:20240522T092537Z
UID:54936-1716669000-1716674400@venelles.fr
SUMMARY:Concert chanson française : Chloé Lacan / Thibaud Defever
DESCRIPTION:Ils nous entraînent dans un hommage au 7e art !\nIls chantent\, jouent\, dialoguent\, mettent en lumière\, esquissent un pas de danse !\nUne comédie musicale qui ne se prend pas au sérieux !\nChansons\, thèmes et dialogues de films se succèdent dans des versions décalées et originales.\nGuitare\, accordéon\, voix et percussions revisitent des airs connus et moins connus. \nC’est un concert qui s’écrit comme un film !\nMais ici\, pas de caméra. Sous l’œil du spectateur\, c’est la musique qui dicte le scénario\, les cadrages\, la lumière\, le décor.\nDu « Mépris » de Godard au « Cabaret » de Bob Fosse en passant par « Peau d’Ane »\, « Orphéo Negro » et « Cria Cuervos »…\nCes deux amoureux des salles obscures prennent plaisir à mélanger les styles\, les langues\, les souvenirs et déroulent à nos oreilles leur bande originale idéale. \n+ Infos et réservations
URL:https://venelles.fr/event/concert-chanson-francaise-chloe-lacan-thibaud-defever/
LOCATION:Pôle culturel L’Étincelle\, 55 avenue de la grande Bégude\, Venelles\, 13770\, France
ATTACH;FMTTYPE=image/jpeg:https://venelles.fr/wp-content/uploads/2024/04/affiche-happy-ends-deflogo-galerie-ok_optimized-e1713874376543.jpeg
END:VEVENT
END:VCALENDAR