BEGIN:VCALENDAR
VERSION:2.0
PRODID:-//Ville de Venelles - ECPv6.15.8//NONSGML v1.0//EN
CALSCALE:GREGORIAN
METHOD:PUBLISH
X-WR-CALNAME:Ville de Venelles
X-ORIGINAL-URL:https://venelles.fr
X-WR-CALDESC:Évènements pour Ville de Venelles
REFRESH-INTERVAL;VALUE=DURATION:PT1H
X-Robots-Tag:noindex
X-PUBLISHED-TTL:PT1H
BEGIN:VTIMEZONE
TZID:Europe/Paris
BEGIN:DAYLIGHT
TZOFFSETFROM:+0100
TZOFFSETTO:+0200
TZNAME:CEST
DTSTART:20250330T010000
END:DAYLIGHT
BEGIN:STANDARD
TZOFFSETFROM:+0200
TZOFFSETTO:+0100
TZNAME:CET
DTSTART:20251026T010000
END:STANDARD
BEGIN:DAYLIGHT
TZOFFSETFROM:+0100
TZOFFSETTO:+0200
TZNAME:CEST
DTSTART:20260329T010000
END:DAYLIGHT
BEGIN:STANDARD
TZOFFSETFROM:+0200
TZOFFSETTO:+0100
TZNAME:CET
DTSTART:20261025T010000
END:STANDARD
BEGIN:DAYLIGHT
TZOFFSETFROM:+0100
TZOFFSETTO:+0200
TZNAME:CEST
DTSTART:20270328T010000
END:DAYLIGHT
BEGIN:STANDARD
TZOFFSETFROM:+0200
TZOFFSETTO:+0100
TZNAME:CET
DTSTART:20271031T010000
END:STANDARD
END:VTIMEZONE
BEGIN:VEVENT
DTSTART;TZID=Europe/Paris:20260519T193000
DTEND;TZID=Europe/Paris:20260519T220000
DTSTAMP:20260425T215259
CREATED:20250726T111125Z
LAST-MODIFIED:20260422T094525Z
UID:53041-1779219000-1779228000@venelles.fr
SUMMARY:Conférence-débat parentalité : "Gestion de l’hyperparentalité et accompagnement vers l’autonomie"
DESCRIPTION:3e  conférence-débat du cycle proposé en 2026 par le service Education-Jeunesse\, animée par l’association Plus Fort\, avec le soutien de l’Association des parents d’élèves de Venelles \nIntervenante : Maëva Macé\, psychologue clinicienne. \nPublic cible : les parents d’enfants dès 9-10 ans \n\nLe stress et les peurs parentales et enfantines liés à l’autonomie\nComment communiquer efficacement pour trouver le juste équilibre entre sécurité et liberté\n La responsabilisation progressive des enfants\nLes leviers d’un accompagnement respectueux favorisant l’autonomie\n\nAvec le soutien des collèges Nina Simone et la Chesneraie \nOrganisée dans le cadre de la Convention Territoriale Globale (CTG) du Massif du Concors\, avec la CAF\, Vauvenargues et Saint Marc Jaumegarde \nEntrée libre \n+ Contact : 04 42 54 52 50  \n 
URL:https://venelles.fr/event/conference-parentalite-2026-3/
LOCATION:Pôle culturel L’Étincelle\, 55 avenue de la grande Bégude\, Venelles\, 13770\, France
ATTACH;FMTTYPE=image/jpeg:https://venelles.fr/wp-content/uploads/2025/07/visuel-conference-hyperparentalite-scaled.jpeg
ORGANIZER;CN="Mairie - Svce Education Jeunesse":MAILTO:service.education.jeunesse@venelles.fr
END:VEVENT
END:VCALENDAR