BEGIN:VCALENDAR
VERSION:2.0
PRODID:-//Ville de Venelles - ECPv6.15.8//NONSGML v1.0//EN
CALSCALE:GREGORIAN
METHOD:PUBLISH
X-WR-CALNAME:Ville de Venelles
X-ORIGINAL-URL:https://venelles.fr
X-WR-CALDESC:Évènements pour Ville de Venelles
REFRESH-INTERVAL;VALUE=DURATION:PT1H
X-Robots-Tag:noindex
X-PUBLISHED-TTL:PT1H
BEGIN:VTIMEZONE
TZID:Europe/Paris
BEGIN:DAYLIGHT
TZOFFSETFROM:+0100
TZOFFSETTO:+0200
TZNAME:CEST
DTSTART:20250330T010000
END:DAYLIGHT
BEGIN:STANDARD
TZOFFSETFROM:+0200
TZOFFSETTO:+0100
TZNAME:CET
DTSTART:20251026T010000
END:STANDARD
BEGIN:DAYLIGHT
TZOFFSETFROM:+0100
TZOFFSETTO:+0200
TZNAME:CEST
DTSTART:20260329T010000
END:DAYLIGHT
BEGIN:STANDARD
TZOFFSETFROM:+0200
TZOFFSETTO:+0100
TZNAME:CET
DTSTART:20261025T010000
END:STANDARD
BEGIN:DAYLIGHT
TZOFFSETFROM:+0100
TZOFFSETTO:+0200
TZNAME:CEST
DTSTART:20270328T010000
END:DAYLIGHT
BEGIN:STANDARD
TZOFFSETFROM:+0200
TZOFFSETTO:+0100
TZNAME:CET
DTSTART:20271031T010000
END:STANDARD
END:VTIMEZONE
BEGIN:VEVENT
DTSTART;TZID=Europe/Paris:20260203T100000
DTEND;TZID=Europe/Paris:20260228T180000
DTSTAMP:20260422T003127
CREATED:20251230T105446Z
LAST-MODIFIED:20260202T094341Z
UID:65100-1770112800-1772301600@venelles.fr
SUMMARY:Exposition de peinture : "Quête"
DESCRIPTION:Pascale Richard sera présente tous les mercredis et samedis après-midi (14h à 17h) \nPeindre comme une “Quête” : tel est le chemin artistique emprunté par Pascale Richard durant ses années venelloises (2005–2022). Une recherche de sens à travers les sensations\, guidée par une intention sincère : ne pas tricher\, se laisser inspirer. \nSon œuvre se déploie dans une grande diversité de formes\, où la couleur et le mouvement occupent une place centrale. Tantôt abstraits\, tantôt figuratifs\, ses tableaux invitent à l’émotion.
URL:https://venelles.fr/event/exposition-de-peinture-quete/
LOCATION:Pôle culturel L’Étincelle\, 55 avenue de la grande Bégude\, Venelles\, 13770\, France
ATTACH;FMTTYPE=image/jpeg:https://venelles.fr/wp-content/uploads/2025/12/La-Ronde-Acrylique-sur-toile-81x65cm.jpg
END:VEVENT
END:VCALENDAR