BEGIN:VCALENDAR
VERSION:2.0
PRODID:-//Ville de Venelles - ECPv6.15.8//NONSGML v1.0//EN
CALSCALE:GREGORIAN
METHOD:PUBLISH
X-WR-CALNAME:Ville de Venelles
X-ORIGINAL-URL:https://venelles.fr
X-WR-CALDESC:Évènements pour Ville de Venelles
REFRESH-INTERVAL;VALUE=DURATION:PT1H
X-Robots-Tag:noindex
X-PUBLISHED-TTL:PT1H
BEGIN:VTIMEZONE
TZID:Europe/Paris
BEGIN:DAYLIGHT
TZOFFSETFROM:+0100
TZOFFSETTO:+0200
TZNAME:CEST
DTSTART:20230326T010000
END:DAYLIGHT
BEGIN:STANDARD
TZOFFSETFROM:+0200
TZOFFSETTO:+0100
TZNAME:CET
DTSTART:20231029T010000
END:STANDARD
BEGIN:DAYLIGHT
TZOFFSETFROM:+0100
TZOFFSETTO:+0200
TZNAME:CEST
DTSTART:20240331T010000
END:DAYLIGHT
BEGIN:STANDARD
TZOFFSETFROM:+0200
TZOFFSETTO:+0100
TZNAME:CET
DTSTART:20241027T010000
END:STANDARD
BEGIN:DAYLIGHT
TZOFFSETFROM:+0100
TZOFFSETTO:+0200
TZNAME:CEST
DTSTART:20250330T010000
END:DAYLIGHT
BEGIN:STANDARD
TZOFFSETFROM:+0200
TZOFFSETTO:+0100
TZNAME:CET
DTSTART:20251026T010000
END:STANDARD
END:VTIMEZONE
BEGIN:VEVENT
DTSTART;TZID=Europe/Paris:20240917T100000
DTEND;TZID=Europe/Paris:20240928T180000
DTSTAMP:20260419T181939
CREATED:20240715T091939Z
LAST-MODIFIED:20240916T105101Z
UID:55379-1726567200-1727546400@venelles.fr
SUMMARY:Exposition "Venelles\, des familles et des métiers au 19e siècle"
DESCRIPTION:Par l’Association Généalogique Venelloise \nQuelle était la vie quotidienne des Venellois au 19°siècle ? Quels étaient les métiers les plus prisés ? \nDans les années 1830\, le Comte de Villeneuve décrivait les habitants de Venelles comme :\n« …… uniquement occupés des travaux agricoles. Ces occupations les rendent peu communicatifs et peu désireux de savoir ce qui se passe autour d’eux mais ils vivent dans la plus grande union\, et leurs moeurs sont simples et régulières. » \nS’il est vrai que de tout temps\, l’activité principale de notre village a été le travail de la terre\, d’autres métiers ont également occupé la part de la population qui ne vit pas de l’agriculture ou de l’élevage. Métiers dits ‘’de bouche’’\, du service public ou encore de l’artisanat tels que cordonnier\, bourrelier\, maréchal-ferrant et autres. \nL’association Généalogique Venelloise vous invite à remonter le temps et à découvrir “Venelles\, des familles et des métiers ! \nInfos pratiques : \n> Vernissage le vendredi 20 septembre 2024
URL:https://venelles.fr/event/exposition-venelles-des-familles-et-des-metiers/
ATTACH;FMTTYPE=image/png:https://venelles.fr/wp-content/uploads/2024/07/Berger_Venelles.png
END:VEVENT
END:VCALENDAR