BEGIN:VCALENDAR
VERSION:2.0
PRODID:-//Ville de Venelles - ECPv6.15.8//NONSGML v1.0//EN
CALSCALE:GREGORIAN
METHOD:PUBLISH
X-WR-CALNAME:Ville de Venelles
X-ORIGINAL-URL:https://venelles.fr
X-WR-CALDESC:Évènements pour Ville de Venelles
REFRESH-INTERVAL;VALUE=DURATION:PT1H
X-Robots-Tag:noindex
X-PUBLISHED-TTL:PT1H
BEGIN:VTIMEZONE
TZID:Europe/Paris
BEGIN:DAYLIGHT
TZOFFSETFROM:+0100
TZOFFSETTO:+0200
TZNAME:CEST
DTSTART:20240331T010000
END:DAYLIGHT
BEGIN:STANDARD
TZOFFSETFROM:+0200
TZOFFSETTO:+0100
TZNAME:CET
DTSTART:20241027T010000
END:STANDARD
BEGIN:DAYLIGHT
TZOFFSETFROM:+0100
TZOFFSETTO:+0200
TZNAME:CEST
DTSTART:20250330T010000
END:DAYLIGHT
BEGIN:STANDARD
TZOFFSETFROM:+0200
TZOFFSETTO:+0100
TZNAME:CET
DTSTART:20251026T010000
END:STANDARD
BEGIN:DAYLIGHT
TZOFFSETFROM:+0100
TZOFFSETTO:+0200
TZNAME:CEST
DTSTART:20260329T010000
END:DAYLIGHT
BEGIN:STANDARD
TZOFFSETFROM:+0200
TZOFFSETTO:+0100
TZNAME:CET
DTSTART:20261025T010000
END:STANDARD
END:VTIMEZONE
BEGIN:VEVENT
DTSTART;TZID=Europe/Paris:20250111T141500
DTEND;TZID=Europe/Paris:20250111T153000
DTSTAMP:20260423T000124
CREATED:20241219T124033Z
LAST-MODIFIED:20250107T140325Z
UID:56693-1736604900-1736609400@venelles.fr
SUMMARY:Installation du  Conseil Municipal des Jeunes #2
DESCRIPTION:La dizaine de nouveaux conseillers nommés pour deux ans débutent officiellement leur mandat au sein du CMJ 2025 > 2027 . \n+ En savoir + sur le CMJ
URL:https://venelles.fr/event/installation-nouveau-cmj/
ATTACH;FMTTYPE=image/jpeg:https://venelles.fr/wp-content/uploads/2023/06/CMJ_seance-installation_21Janv2023-35-scaled-e1734613403945.jpg
END:VEVENT
END:VCALENDAR