BEGIN:VCALENDAR
VERSION:2.0
PRODID:-//Ville de Venelles - ECPv6.15.8//NONSGML v1.0//EN
CALSCALE:GREGORIAN
METHOD:PUBLISH
X-WR-CALNAME:Ville de Venelles
X-ORIGINAL-URL:https://venelles.fr
X-WR-CALDESC:Évènements pour Ville de Venelles
REFRESH-INTERVAL;VALUE=DURATION:PT1H
X-Robots-Tag:noindex
X-PUBLISHED-TTL:PT1H
BEGIN:VTIMEZONE
TZID:Europe/Paris
BEGIN:DAYLIGHT
TZOFFSETFROM:+0100
TZOFFSETTO:+0200
TZNAME:CEST
DTSTART:20240331T010000
END:DAYLIGHT
BEGIN:STANDARD
TZOFFSETFROM:+0200
TZOFFSETTO:+0100
TZNAME:CET
DTSTART:20241027T010000
END:STANDARD
BEGIN:DAYLIGHT
TZOFFSETFROM:+0100
TZOFFSETTO:+0200
TZNAME:CEST
DTSTART:20250330T010000
END:DAYLIGHT
BEGIN:STANDARD
TZOFFSETFROM:+0200
TZOFFSETTO:+0100
TZNAME:CET
DTSTART:20251026T010000
END:STANDARD
BEGIN:DAYLIGHT
TZOFFSETFROM:+0100
TZOFFSETTO:+0200
TZNAME:CEST
DTSTART:20260329T010000
END:DAYLIGHT
BEGIN:STANDARD
TZOFFSETFROM:+0200
TZOFFSETTO:+0100
TZNAME:CET
DTSTART:20261025T010000
END:STANDARD
END:VTIMEZONE
BEGIN:VEVENT
DTSTART;TZID=Europe/Paris:20250419T103000
DTEND;TZID=Europe/Paris:20250419T123000
DTSTAMP:20260421T113815
CREATED:20250328T154844Z
LAST-MODIFIED:20250328T154853Z
UID:58589-1745058600-1745065800@venelles.fr
SUMMARY:Matinée jeux : "À vos marques\, prêts\, jouer !"
DESCRIPTION:La médiathèque vous invite à une matinée 100% jeux de société.\nIl y en aura pour tous les âges et tous les goûts. À vos marques\, prêts\, jouez ! \nGratuit sans réservation
URL:https://venelles.fr/event/matinee-jeux-a-vos-marques-prets-jouer/
LOCATION:Pôle culturel L’Étincelle\, 55 avenue de la grande Bégude\, Venelles\, 13770\, France
ATTACH;FMTTYPE=image/jpeg:https://venelles.fr/wp-content/uploads/2025/03/Jeux-societe-scaled.jpeg
ORGANIZER;CN="M%C3%A9diath%C3%A8que de l'%C3%89tincelle":MAILTO:mediatheque@venelles.fr
END:VEVENT
END:VCALENDAR