BEGIN:VCALENDAR
VERSION:2.0
PRODID:-//Ville de Venelles - ECPv6.15.8//NONSGML v1.0//EN
CALSCALE:GREGORIAN
METHOD:PUBLISH
X-WR-CALNAME:Ville de Venelles
X-ORIGINAL-URL:https://venelles.fr
X-WR-CALDESC:Évènements pour Ville de Venelles
REFRESH-INTERVAL;VALUE=DURATION:PT1H
X-Robots-Tag:noindex
X-PUBLISHED-TTL:PT1H
BEGIN:VTIMEZONE
TZID:Europe/Paris
BEGIN:DAYLIGHT
TZOFFSETFROM:+0100
TZOFFSETTO:+0200
TZNAME:CEST
DTSTART:20250330T010000
END:DAYLIGHT
BEGIN:STANDARD
TZOFFSETFROM:+0200
TZOFFSETTO:+0100
TZNAME:CET
DTSTART:20251026T010000
END:STANDARD
BEGIN:DAYLIGHT
TZOFFSETFROM:+0100
TZOFFSETTO:+0200
TZNAME:CEST
DTSTART:20260329T010000
END:DAYLIGHT
BEGIN:STANDARD
TZOFFSETFROM:+0200
TZOFFSETTO:+0100
TZNAME:CET
DTSTART:20261025T010000
END:STANDARD
BEGIN:DAYLIGHT
TZOFFSETFROM:+0100
TZOFFSETTO:+0200
TZNAME:CEST
DTSTART:20270328T010000
END:DAYLIGHT
BEGIN:STANDARD
TZOFFSETFROM:+0200
TZOFFSETTO:+0100
TZNAME:CET
DTSTART:20271031T010000
END:STANDARD
END:VTIMEZONE
BEGIN:VEVENT
DTSTART;TZID=Europe/Paris:20260613T180000
DTEND;TZID=Europe/Paris:20260613T235900
DTSTAMP:20260421T113605
CREATED:20250901T084225Z
LAST-MODIFIED:20250922T121114Z
UID:54307-1781373600-1781395140@venelles.fr
SUMMARY:"Le Street Nécessaire" : 10e édition
DESCRIPTION:2026 s’annonce à Venelles comme une année résolument festive ! Le Salon du Livre Jeunesse célèbrera ses 20 ans d’existence\, et Le Street Nécessaire soufflera lui ses 10 bougies ! \nDans une ambiance conviviale et créative\, ce rendez-vous en plein air transforme l’espace urbain en véritable terrain d’expression artistique. Entièrement consacré aux arts de la rue\, l’événement invite petits et grands à plonger dans l’univers foisonnant du street art. Pochoirs\, fresques\, graffitis\, customisation d’objets\, performances dansées\, concerts live : chaque recoin devient une scène\, une toile\, un espace à explorer. \nUn moment de partage et de découverte\, idéal pour célébrer ensemble les premières soirées d’été dans une atmosphère conviviale et vibrante. \nInfos pratiques :\nGratuit sans réservation\nBuvette et restauration sur place\nNavettes gratuites au départ de la Mairie \n \n  \n  \n  \n  \n 
URL:https://venelles.fr/event/street-necessaire-2026/
LOCATION:Venelles-le-Haut\, Venelles\, 13770\, France
ATTACH;FMTTYPE=image/jpeg:https://venelles.fr/wp-content/uploads/2024/02/Street_Necessaire_web-scaled.jpg
ORGANIZER;CN="Mairie- Service Culture":MAILTO:letincelle@venelles.fr
END:VEVENT
END:VCALENDAR