BEGIN:VCALENDAR
VERSION:2.0
PRODID:-//Ville de Venelles - ECPv6.15.8//NONSGML v1.0//EN
CALSCALE:GREGORIAN
METHOD:PUBLISH
X-WR-CALNAME:Ville de Venelles
X-ORIGINAL-URL:https://venelles.fr
X-WR-CALDESC:Évènements pour Ville de Venelles
REFRESH-INTERVAL;VALUE=DURATION:PT1H
X-Robots-Tag:noindex
X-PUBLISHED-TTL:PT1H
BEGIN:VTIMEZONE
TZID:Europe/Paris
BEGIN:DAYLIGHT
TZOFFSETFROM:+0100
TZOFFSETTO:+0200
TZNAME:CEST
DTSTART:20240331T010000
END:DAYLIGHT
BEGIN:STANDARD
TZOFFSETFROM:+0200
TZOFFSETTO:+0100
TZNAME:CET
DTSTART:20241027T010000
END:STANDARD
BEGIN:DAYLIGHT
TZOFFSETFROM:+0100
TZOFFSETTO:+0200
TZNAME:CEST
DTSTART:20250330T010000
END:DAYLIGHT
BEGIN:STANDARD
TZOFFSETFROM:+0200
TZOFFSETTO:+0100
TZNAME:CET
DTSTART:20251026T010000
END:STANDARD
BEGIN:DAYLIGHT
TZOFFSETFROM:+0100
TZOFFSETTO:+0200
TZNAME:CEST
DTSTART:20260329T010000
END:DAYLIGHT
BEGIN:STANDARD
TZOFFSETFROM:+0200
TZOFFSETTO:+0100
TZNAME:CET
DTSTART:20261025T010000
END:STANDARD
END:VTIMEZONE
BEGIN:VEVENT
DTSTART;TZID=Europe/Paris:20250307T203000
DTEND;TZID=Europe/Paris:20250307T214000
DTSTAMP:20260422T221143
CREATED:20240815T070006Z
LAST-MODIFIED:20250303T093417Z
UID:55436-1741379400-1741383600@venelles.fr
SUMMARY:[COMPLET] Théâtre : "La poésie de l'échec"
DESCRIPTION:Par la Cie Marjolaine Minot\nGrand Prix Migros Neuchâtel / Fribourg (Suisse)\nPrix culturel à l’Émergence de Fribourg (Suisse) \nDans la famille Keller\, on fait semblant que tout va bien alors que tout va mal. Personne ne communique vraiment. Chacun tente de cacher ses fragilités\, ses émotions\, jusqu’à ce que fatalement\, elles explosent. D’aveux tardifs en faux-semblants\, l’univers de cette famille vacille et la vérité éclate au grand jour. \nSur scène\, trois comédiens et un beat-boxer. Maîtrisant aussi bien l’humour décalé\, l’émotion\, que les performances physiques\, ils incarnent avec brio des personnages particulièrement attachants. Un spectacle tendre et corrosif où les antihéros sont rois et où les déboires sont la meilleure façon d’avancer. \nUne pièce de théâtre tendre et corrosive sur le thème de la famille ! \nÉcriture\, mise en scène : Marjolaine Minot\, Günther Baldauf\nInterprétation : Florian Albin\, Christa Barrett\, Marjolaine Minot\nMusicien\, beat boxeur : Julien Paplomatas\nRégie générale : Jay Schütz \n\nInfos pratiques : \nTout public à partir de 12 ans\nTarifs : 15 € / 12 € / 5 €\nRéserver votre billet \n \n 
URL:https://venelles.fr/event/theatre-la-poesie-de-lechec/
LOCATION:Pôle culturel L’Étincelle\, 55 avenue de la grande Bégude\, Venelles\, 13770\, France
ATTACH;FMTTYPE=image/jpeg:https://venelles.fr/wp-content/uploads/2024/08/La-poesie_de_lechec_web-scaled.jpeg
ORGANIZER;CN="L'Etincelle":MAILTO:letincelle@venelles.fr
END:VEVENT
END:VCALENDAR