BEGIN:VCALENDAR
VERSION:2.0
PRODID:-//Ville de Venelles - ECPv6.15.8//NONSGML v1.0//EN
CALSCALE:GREGORIAN
METHOD:PUBLISH
X-ORIGINAL-URL:https://venelles.fr
X-WR-CALDESC:Évènements pour Ville de Venelles
REFRESH-INTERVAL;VALUE=DURATION:PT1H
X-Robots-Tag:noindex
X-PUBLISHED-TTL:PT1H
BEGIN:VTIMEZONE
TZID:Europe/Paris
BEGIN:DAYLIGHT
TZOFFSETFROM:+0100
TZOFFSETTO:+0200
TZNAME:CEST
DTSTART:20230326T010000
END:DAYLIGHT
BEGIN:STANDARD
TZOFFSETFROM:+0200
TZOFFSETTO:+0100
TZNAME:CET
DTSTART:20231029T010000
END:STANDARD
BEGIN:DAYLIGHT
TZOFFSETFROM:+0100
TZOFFSETTO:+0200
TZNAME:CEST
DTSTART:20240331T010000
END:DAYLIGHT
BEGIN:STANDARD
TZOFFSETFROM:+0200
TZOFFSETTO:+0100
TZNAME:CET
DTSTART:20241027T010000
END:STANDARD
BEGIN:DAYLIGHT
TZOFFSETFROM:+0100
TZOFFSETTO:+0200
TZNAME:CEST
DTSTART:20250330T010000
END:DAYLIGHT
BEGIN:STANDARD
TZOFFSETFROM:+0200
TZOFFSETTO:+0100
TZNAME:CET
DTSTART:20251026T010000
END:STANDARD
END:VTIMEZONE
BEGIN:VEVENT
DTSTART;TZID=Europe/Paris:20241126T193000
DTEND;TZID=Europe/Paris:20241126T210000
DTSTAMP:20260424T122301
CREATED:20240815T070058Z
LAST-MODIFIED:20241023T131330Z
UID:55413-1732649400-1732654800@venelles.fr
SUMMARY:Cinéma : "Coups de coeur du festival Tous Courts"
DESCRIPTION:Faites le plein d’images avec le festival Tous Courts ! Pour sa 42e édition\, le festival international de courts-métrages d’Aix-en-Provence et du Pays d’Aix invite les cinéphiles à retrouver les salles obscures pour célébrer le cinéma. Compétitions internationales\, cartes blanches\, séances thématiques : des centaines de films sont projetés sur les écrans et dressent un panorama de la création contemporaine issue du monde entier. \nLe festival Tous Courts vient présenter sa séance Coups de cœur à Venelles. Une sélection de films d’exception que l’équipe du festival a adorée et qu’elle souhaite partager avec vous\, spectateurs !  \nInfos pratiques : \nPublic adulte\nTarifs : 7 € / 5 €\nPas de réservation préalable\, billetterie du festival sur place\n+ D’infos : https://festivaltouscourts.com/festival-2024/coups-de-coeur/
URL:https://venelles.fr/event/cinema-selection-coups-de-coeur-du-festival-tous-courts/
LOCATION:Pôle culturel L’Étincelle\, 55 avenue de la grande Bégude\, Venelles\, 13770\, France
ATTACH;FMTTYPE=image/jpeg:https://venelles.fr/wp-content/uploads/2024/08/Tous_couts_24-scaled.jpeg
ORGANIZER;CN="L'Etincelle":MAILTO:letincelle@venelles.fr
END:VEVENT
END:VCALENDAR