BEGIN:VCALENDAR
VERSION:2.0
PRODID:-//Ville de Venelles - ECPv6.15.8//NONSGML v1.0//EN
CALSCALE:GREGORIAN
METHOD:PUBLISH
X-ORIGINAL-URL:https://venelles.fr
X-WR-CALDESC:Évènements pour Ville de Venelles
REFRESH-INTERVAL;VALUE=DURATION:PT1H
X-Robots-Tag:noindex
X-PUBLISHED-TTL:PT1H
BEGIN:VTIMEZONE
TZID:Europe/Paris
BEGIN:DAYLIGHT
TZOFFSETFROM:+0100
TZOFFSETTO:+0200
TZNAME:CEST
DTSTART:20240331T010000
END:DAYLIGHT
BEGIN:STANDARD
TZOFFSETFROM:+0200
TZOFFSETTO:+0100
TZNAME:CET
DTSTART:20241027T010000
END:STANDARD
BEGIN:DAYLIGHT
TZOFFSETFROM:+0100
TZOFFSETTO:+0200
TZNAME:CEST
DTSTART:20250330T010000
END:DAYLIGHT
BEGIN:STANDARD
TZOFFSETFROM:+0200
TZOFFSETTO:+0100
TZNAME:CET
DTSTART:20251026T010000
END:STANDARD
BEGIN:DAYLIGHT
TZOFFSETFROM:+0100
TZOFFSETTO:+0200
TZNAME:CEST
DTSTART:20260329T010000
END:DAYLIGHT
BEGIN:STANDARD
TZOFFSETFROM:+0200
TZOFFSETTO:+0100
TZNAME:CET
DTSTART:20261025T010000
END:STANDARD
END:VTIMEZONE
BEGIN:VEVENT
DTSTART;TZID=Europe/Paris:20250114T100000
DTEND;TZID=Europe/Paris:20250301T180000
DTSTAMP:20260423T000339
CREATED:20250120T070039Z
LAST-MODIFIED:20250121T163613Z
UID:56378-1736848800-1740852000@venelles.fr
SUMMARY:Exposition de peinture : "Mes villes"
DESCRIPTION:À travers ses peintures\, l’artiste peintre Patrick Lesné explore les multiples facettes de la ville. Venez découvrir son exposition à l’Étincelle.\n\n\n\n\n“Je n’ai pas fini de m’interroger sur tous ces morceaux de ville que ma peinture me fait lâcher ur la toile: mondes disparus ? Villes dévastées des temps présents ? Vision apocalyptique du futur ? Je n’ai pas de réponse\, mais en faut-il une ? Et d’ailleurs\, dans mes tableaux\, il n’y a pas que des villes…” – Patrick Lesné \n> Vernissage le jeudi 23 janvier à 18h
URL:https://venelles.fr/event/exposition-de-peinture-mes-villes/
LOCATION:Pôle culturel L’Étincelle\, 55 avenue de la grande Bégude\, Venelles\, 13770\, France
ATTACH;FMTTYPE=image/jpeg:https://venelles.fr/wp-content/uploads/2024/12/Expo_Patrick_Lesne-e1733319206410.jpg
END:VEVENT
BEGIN:VEVENT
DTSTART;TZID=Europe/Paris:20250125T100000
DTEND;TZID=Europe/Paris:20250125T103000
DTSTAMP:20260423T000339
CREATED:20240815T070045Z
LAST-MODIFIED:20250120T090532Z
UID:55425-1737799200-1737801000@venelles.fr
SUMMARY:[COMPLET] Plateau des Minipousses / Théâtre d'ombres : "Un peu perdu"
DESCRIPTION:Par la Cie Contes en ombres \nD’après l’album éponyme de Chris Haughton \nLe jour se lève sur la forêt et\, alors que tous les animaux se réveillent\, maman chouette et bébé chouette s’endorment. Mais bébé est un peu étourdi et dans son sommeil\, il tombe du nid ! Il se retrouve tout en bas\, seul dans cette immense forêt qu’il n’avait encore jamais explorée. Un peu perdu mais courageux il se lance à la recherche de sa maman. Il tombe très vite nez à nez avec un écureuil plein d’entrain qui connait bien la forêt et lui propose de l’aider à la retrouver… \nSuivez-nous dans ce périple tout en théâtre d’ombres d’une chouette tenace à la poursuite de sa mère.  \nÉcriture : Marion Bornachot\nInterprétation : Caroline Demourgues\nProduction : Turbine Production \n> Avant chaque Plateau des Minipousses\, rejoignez-nous à partir de 9h pour partager un petit déjeuner. \n> Chris Haugton à l’honneur ! En parallèle de ce spectacle\, la médiathèque propose une Lecture des p’tites oreilles thématique ainsi qu’un atelier créatif.  \nInfos pratiques : \nTout public à partir de 2 ans\nTarif unique : 5 €\nRéserver votre billet\nTeaser du spectacle \n \n  \n 
URL:https://venelles.fr/event/plateau-des-minipousses-theatre-dombres-un-peu-perdu/
LOCATION:Pôle culturel L’Étincelle\, 55 avenue de la grande Bégude\, Venelles\, 13770\, France
ATTACH;FMTTYPE=image/jpeg:https://venelles.fr/wp-content/uploads/2024/08/Un-peu-perdu_web.jpeg
ORGANIZER;CN="L'Etincelle":MAILTO:letincelle@venelles.fr
END:VEVENT
END:VCALENDAR