BEGIN:VCALENDAR
VERSION:2.0
PRODID:-//Ville de Venelles - ECPv6.15.8//NONSGML v1.0//EN
CALSCALE:GREGORIAN
METHOD:PUBLISH
X-WR-CALNAME:Ville de Venelles
X-ORIGINAL-URL:https://venelles.fr
X-WR-CALDESC:Évènements pour Ville de Venelles
REFRESH-INTERVAL;VALUE=DURATION:PT1H
X-Robots-Tag:noindex
X-PUBLISHED-TTL:PT1H
BEGIN:VTIMEZONE
TZID:Europe/Paris
BEGIN:DAYLIGHT
TZOFFSETFROM:+0100
TZOFFSETTO:+0200
TZNAME:CEST
DTSTART:20240331T010000
END:DAYLIGHT
BEGIN:STANDARD
TZOFFSETFROM:+0200
TZOFFSETTO:+0100
TZNAME:CET
DTSTART:20241027T010000
END:STANDARD
BEGIN:DAYLIGHT
TZOFFSETFROM:+0100
TZOFFSETTO:+0200
TZNAME:CEST
DTSTART:20250330T010000
END:DAYLIGHT
BEGIN:STANDARD
TZOFFSETFROM:+0200
TZOFFSETTO:+0100
TZNAME:CET
DTSTART:20251026T010000
END:STANDARD
BEGIN:DAYLIGHT
TZOFFSETFROM:+0100
TZOFFSETTO:+0200
TZNAME:CEST
DTSTART:20260329T010000
END:DAYLIGHT
BEGIN:STANDARD
TZOFFSETFROM:+0200
TZOFFSETTO:+0100
TZNAME:CET
DTSTART:20261025T010000
END:STANDARD
END:VTIMEZONE
BEGIN:VEVENT
DTSTART;TZID=Europe/Paris:20250305T100000
DTEND;TZID=Europe/Paris:20250329T180000
DTSTAMP:20260422T204313
CREATED:20250105T134715Z
LAST-MODIFIED:20250325T154921Z
UID:54354-1741168800-1743271200@venelles.fr
SUMMARY:Exposition de peinture du concours amateur : "L'Upcycling\, il était une seconde fois"
DESCRIPTION:Faites le mur ! C’est parti pour la 8e édition de notre concours de peinture amateur. \n23 artistes en lice pour ce concours de peinture amateur à l’Étincelle ! Une belle exposition sur le thème : “L’upcycling : Il était une seconde fois” \nDeux prix seront attribués à l’occasion de ce concours : le Prix du Public et le Prix du Jury. À vous de choisir votre œuvre préférée ! Vous pouvez voter sur place ou en ligne.\n> À vous de jouer ! Pour voter\, avant le 23 mars\, cliquer ici \n> Vernissage et remise des prix le jeudi 27 mars 2025 à 19h au Pôle culturel l’Étincelle
URL:https://venelles.fr/event/exposition-de-peinture-du-concours-amateur-faites-le-mur/
LOCATION:Pôle culturel L’Étincelle\, 55 avenue de la grande Bégude\, Venelles\, 13770\, France
ATTACH;FMTTYPE=image/jpeg:https://venelles.fr/wp-content/uploads/2024/02/Faites_le_mur_2524-scaled-e1741182441654.jpeg
ORGANIZER;CN="L'Etincelle":MAILTO:letincelle@venelles.fr
END:VEVENT
BEGIN:VEVENT
DTSTART;TZID=Europe/Paris:20250321T183000
DTEND;TZID=Europe/Paris:20250321T193000
DTSTAMP:20260422T204314
CREATED:20250310T091246Z
LAST-MODIFIED:20250321T092255Z
UID:58060-1742581800-1742585400@venelles.fr
SUMMARY:Lecture musicale : "Nous traverserons des orages"
DESCRIPTION:Par Anne-Laure Bondoux et Sean Seago\nDe la Première Guerre Mondiale jusqu’à la chute du mur de Berlin\, en passant par l’Occupation et la guerre d’Algérie\, venez écouter l’histoire de la famille Balaguère sur quatre générations. De père en fils\, de chanson en chanson\, les secrets\, les drames\, les rêves et les amours contrariés se mêlent aux grands événements du siècle\, suggérant une réflexion sur nos mémoires collectives et sur la violence subie ou exercée par les hommes. \nEn entrelaçant des extraits du roman à la musique\, l’autrice et le compositeur vous emmènent par petites touches dans un voyage auditif qui ouvrira votre appétit de lecture. \nLa lecture sera suivie d’une dédicace de l’auteure\, en partenariat avec la librairie jeunesse La Petite fabrique. \n  \nInfos pratiques : \nTout public à partir de 13 ans\nGratuit sur réservation\n> Réserver votre billet
URL:https://venelles.fr/event/lecture-musicale/
LOCATION:Pôle culturel L’Étincelle\, 55 avenue de la grande Bégude\, Venelles\, 13770\, France
ATTACH;FMTTYPE=image/jpeg:https://venelles.fr/wp-content/uploads/2025/03/417160275_915143310057910_929609025472633580_n.jpg
ORGANIZER;CN="M%C3%A9diath%C3%A8que de l'%C3%89tincelle":MAILTO:mediatheque@venelles.fr
END:VEVENT
BEGIN:VEVENT
DTSTART;TZID=Europe/Paris:20250321T190000
DTEND;TZID=Europe/Paris:20250321T203000
DTSTAMP:20260422T204314
CREATED:20250317T143449Z
LAST-MODIFIED:20250321T104706Z
UID:58213-1742583600-1742589000@venelles.fr
SUMMARY:Cérémonie des jeunes citoyens
DESCRIPTION:En l’honneur des jeunes électeurs. \nSur invitation uniquement.
URL:https://venelles.fr/event/ceremonie-des-jeunes-citoyens/
LOCATION:Mairie – salle des mariages\, place M. Trucy\, Venelles\, 13770\, France
ATTACH;FMTTYPE=image/png:https://venelles.fr/wp-content/uploads/2025/03/Ceremonie-merci-elections28SEpt22_28.png
END:VEVENT
END:VCALENDAR